BEGIN:VCALENDAR
VERSION:2.0
PRODID:-//jEvents 2.0 for Joomla//EN
CALSCALE:GREGORIAN
METHOD:PUBLISH
BEGIN:VEVENT
UID:2932b384a50a2cce50dc569e2d285291
CATEGORIES:Próximos Eventos
CREATED:20250314T171656
SUMMARY:Yagul, Pueblo Viejo Trail
LOCATION:Monumento Natural Yagul
DESCRIPTION:Con el objetivo de concientizar sobre la importancia de nuestros orígenes y
  el cuidado del medio ambiente, te invitamos a participar en el Trail 10K "
 Pueblo Viejo".\nFecha: Domingo 30 de marzo\nHora: 7:00 AMLugar: Monumento N
 atural Yagul, Tlacolula de Matamoros, Oaxaca.Distancia: 10 kilómetros de pu
 ra naturaleza.Inscripción: $350¡No te pierdas esta experiencia única! Inscr
 íbete al 9514615529 y asegura tu lugar.¡Cuidemos nuestro entorno mientras n
 os cuidamos a nosotros mismos!Cartel (https://www.oaxaca.travel/index.php/e
 s/activities-2/alternate-blog/yagul-pueblo-viejo-trail)
X-ALT-DESC;FMTTYPE=text/html:<div class="container"><div id="asamodule_search_results"><p>Con el objetiv
 o de concientizar sobre la importancia de nuestros orígenes y el cuidado de
 l medio ambiente, te invitamos a participar en el Trail 10K "Pueblo Viejo".
 </p><p>Fecha: Domingo 30 de marzo</p>Hora: 7:00 AMLugar: Monumento Natural 
 Yagul, Tlacolula de Matamoros, Oaxaca.Distancia: 10 kilómetros de pura natu
 raleza.Inscripción: $350¡No te pierdas esta experiencia única! Inscríbete a
 l 9514615529 y asegura tu lugar.¡Cuidemos nuestro entorno mientras nos cuid
 amos a nosotros mismos!<a href="https://www.oaxaca.travel/index.php/es/acti
 vities-2/alternate-blog/yagul-pueblo-viejo-trail">Cartel</a></div></div>
CONTACT:
X-EXTRAINFO:
DTSTAMP:20260419T183120Z
DTSTART;TZID=America/Mexico_City:20250330T070000
DTEND;TZID=America/Mexico_City:20250330T170000
SEQUENCE:0
TRANSP:OPAQUE
END:VEVENT
END:VCALENDAR