BEGIN:VCALENDAR
VERSION:2.0
PRODID:-//jEvents 2.0 for Joomla//EN
CALSCALE:GREGORIAN
METHOD:PUBLISH
BEGIN:VEVENT
UID:97fafa7ae451718cfd1817d7554bea64
CATEGORIES:Próximos Eventos
CREATED:20250529T104523
SUMMARY:Inauguración Oaxaca Avila Retornar a las Tradiciones
LOCATION:Centro Cultural Reforma
DESCRIPTION:Te invitamos a la inauguración de “Oaxaca Ávila RETOrnar”, una exposición d
 el talentoso artista Ricardo Ávila, donde la memoria, el territorio y la id
 entidad cobran vida en cada obra.¡Ven y descubre su magia!\n
X-ALT-DESC;FMTTYPE=text/html:<div class="container"><div id="asamodule_search_results"><p style="text-al
 ign: justify;">Te invitamos a la inauguración de “Oaxaca Ávila RETOrnar”, u
 na exposición del talentoso artista Ricardo Ávila, donde la memoria, el ter
 ritorio y la identidad cobran vida en cada obra.<br class="html-br" /><br c
 lass="html-br" />¡Ven y descubre su magia!</p></div></div>
CONTACT:9515021200
X-EXTRAINFO:La expresión "Oaxaca Ávila retornar a las tradiciones" parece referirse a u
 na exposición o proyecto artístico del artista Ricardo Ávila que busca revi
 vir y celebrar las tradiciones oaxaqueñas. La exposición, titulada "Oaxaca 
 Ávila RETOrnar", se enfoca en la memoria, el territorio y la identidad oaxa
 queña, y busca fomentar la cultura de paz y seguridad a través del arte. 
DTSTAMP:20260419T202031Z
DTSTART;TZID=America/Mexico_City:20250526T180000
DTEND;TZID=America/Mexico_City;VALUE=DATE:20250614
SEQUENCE:0
TRANSP:OPAQUE
END:VEVENT
END:VCALENDAR