BEGIN:VCALENDAR
VERSION:2.0
PRODID:-//jEvents 2.0 for Joomla//EN
CALSCALE:GREGORIAN
METHOD:PUBLISH
BEGIN:VEVENT
UID:5323766745f7b857cb0ca6623d3ecdbf
CATEGORIES:Próximos Eventos
CREATED:20251104T121431
SUMMARY:Encendido del Árbol Navideño
LOCATION:Cabecera Municipal de San Pedro Villa de Tututepec
DESCRIPTION:¡La magia de la Navidad llega a San Pedro Villa de Tututepec!Este 7 de dici
 embre de 2025 disfruta del Encendido del Árbol de Navidad en Explanada de S
 an Pedro Villa de Tututepec, un evento lleno de luces, música y diversión p
 ara toda la familia.
X-ALT-DESC;FMTTYPE=text/html:<div class="container"><div id="asamodule_search_results"><div dir="auto">¡
 La magia de la Navidad llega a San Pedro Villa de Tututepec!</div><div dir=
 "auto">Este 7 de diciembre de 2025 disfruta del Encendido del Árbol de Navi
 dad en Explanada de San Pedro Villa de Tututepec, un evento lleno de luces,
  música y diversión para toda la familia.</div></div></div>
CONTACT:9515021200
X-EXTRAINFO:Ven con tus amigos o tu familia y celebremos juntos esta bella tradición. 
DTSTAMP:20260419T185421Z
DTSTART;TZID=America/Mexico_City:20251207T080000
DTEND;TZID=America/Mexico_City:20251207T170000
SEQUENCE:0
TRANSP:OPAQUE
END:VEVENT
END:VCALENDAR